BEGIN:VCALENDAR
VERSION:2.0
PRODID:-//jEvents 2.0 for Joomla//EN
CALSCALE:GREGORIAN
METHOD:PUBLISH
BEGIN:VTIMEZONE
TZID:Europe/Berlin
BEGIN:STANDARD
DTSTART:20250212T193000
RDATE:20250330T030000
TZOFFSETFROM:+0200
TZOFFSETTO:+0100
TZNAME:Europe/Berlin CET
END:STANDARD
BEGIN:STANDARD
DTSTART:20251026T020000
RDATE:20260329T030000
TZOFFSETFROM:+0200
TZOFFSETTO:+0100
TZNAME:Europe/Berlin CET
END:STANDARD
BEGIN:STANDARD
DTSTART:20261025T020000
RDATE:20270328T030000
TZOFFSETFROM:+0200
TZOFFSETTO:+0100
TZNAME:Europe/Berlin CET
END:STANDARD
BEGIN:STANDARD
DTSTART:20271031T020000
RDATE:20280326T030000
TZOFFSETFROM:+0200
TZOFFSETTO:+0100
TZNAME:Europe/Berlin CET
END:STANDARD
BEGIN:DAYLIGHT
DTSTART:20250330T030000
RDATE:20251026T020000
TZOFFSETFROM:+0100
TZOFFSETTO:+0200
TZNAME:Europe/Berlin CEST
END:DAYLIGHT
BEGIN:DAYLIGHT
DTSTART:20260329T030000
RDATE:20261025T020000
TZOFFSETFROM:+0100
TZOFFSETTO:+0200
TZNAME:Europe/Berlin CEST
END:DAYLIGHT
BEGIN:DAYLIGHT
DTSTART:20270328T030000
RDATE:20271031T020000
TZOFFSETFROM:+0100
TZOFFSETTO:+0200
TZNAME:Europe/Berlin CEST
END:DAYLIGHT
END:VTIMEZONE
BEGIN:VEVENT
UID:b509b4c59d478118749700a21864c067
CATEGORIES:2. Überland
CREATED:20251112T095900
SUMMARY:Champagner to'n Fröhstück
LOCATION:Kropp\, Schule
DESCRIPTION;ENCODING=QUOTED-PRINTABLE: Dieser Event wurde importiert von: https://www.nbr-ev.de/index.php/aktuell
 es/termine/icalrepeat.detail/2026/02/13/672/-/champagner-to-n-froehstueck?t
 mpl=component
X-EXTRAINFO:Karten gibt es bei der AVHS per Mail unter Diese E-Mail-Adresse ist vor Spa
 mbots geschützt! Zur Anzeige muss JavaScript eingeschaltet sein!
				docume
 nt.getElementById('cloak8f93a6feedab34c452ec9d82a8779809').innerHTML = '';

 				var prefix = '&#109;a' + 'i&#108;' + '&#116;o';
				var path = 'hr' + '
 ef' + '=';
				var addy8f93a6feedab34c452ec9d82a8779809 = '&#97;vhs' + '&#6
 4;';
				addy8f93a6feedab34c452ec9d82a8779809 = addy8f93a6feedab34c452ec9d8
 2a8779809 + '&#97;mt-ks' + '&#46;' + 'd&#101;';
				var addy_text8f93a6feed
 ab34c452ec9d82a8779809 = '&#97;vhs' + '&#64;' + '&#97;mt-ks' + '&#46;' + 'd
 &#101;';document.getElementById('cloak8f93a6feedab34c452ec9d82a8779809').in
 nerHTML += ''+addy_text8f93a6feedab34c452ec9d82a8779809+'';
		 oder telefon
 isch unter 04624/7240 zu kaufen
DTSTAMP:20260420T185559Z
DTSTART;TZID=Europe/Berlin:20260213T193000
SEQUENCE:0
TRANSP:OPAQUE
END:VEVENT
END:VCALENDAR