BEGIN:VCALENDAR
VERSION:2.0
PRODID:-//jEvents 2.0 for Joomla//EN
CALSCALE:GREGORIAN
METHOD:PUBLISH
BEGIN:VTIMEZONE
TZID:Europe/Berlin
BEGIN:STANDARD
DTSTART:20250127T193000
RDATE:20250330T030000
TZOFFSETFROM:+0200
TZOFFSETTO:+0100
TZNAME:Europe/Berlin CET
END:STANDARD
BEGIN:STANDARD
DTSTART:20251026T020000
RDATE:20260329T030000
TZOFFSETFROM:+0200
TZOFFSETTO:+0100
TZNAME:Europe/Berlin CET
END:STANDARD
BEGIN:STANDARD
DTSTART:20261025T020000
RDATE:20270328T030000
TZOFFSETFROM:+0200
TZOFFSETTO:+0100
TZNAME:Europe/Berlin CET
END:STANDARD
BEGIN:STANDARD
DTSTART:20271031T020000
RDATE:20280326T030000
TZOFFSETFROM:+0200
TZOFFSETTO:+0100
TZNAME:Europe/Berlin CET
END:STANDARD
BEGIN:DAYLIGHT
DTSTART:20250330T030000
RDATE:20251026T020000
TZOFFSETFROM:+0100
TZOFFSETTO:+0200
TZNAME:Europe/Berlin CEST
END:DAYLIGHT
BEGIN:DAYLIGHT
DTSTART:20260329T030000
RDATE:20261025T020000
TZOFFSETFROM:+0100
TZOFFSETTO:+0200
TZNAME:Europe/Berlin CEST
END:DAYLIGHT
BEGIN:DAYLIGHT
DTSTART:20270328T030000
RDATE:20271031T020000
TZOFFSETFROM:+0100
TZOFFSETTO:+0200
TZNAME:Europe/Berlin CEST
END:DAYLIGHT
END:VTIMEZONE
BEGIN:VEVENT
UID:357bc99bb83015894bf1952e6c0566c1
CATEGORIES:2. Überland
CREATED:20250806T121626
SUMMARY:Champagner to'n Fröhstück
LOCATION:Bordesholm\, Savoy Kino
DESCRIPTION;ENCODING=QUOTED-PRINTABLE: Dieser Event wurde importiert von: https://www.nbr-ev.de/index.php/aktuell
 es/termine/icalrepeat.detail/2026/01/28/649/-/champagner-to-n-froehstueck?t
 mpl=component
X-EXTRAINFO:Karten können telefonisch oder an der Kinokasse gekauft oder reserviert wer
 den.\n04322 1011 oder Schulstraße 7, 24582 Bordesholm.\nAbendkasse, wenn ni
 cht ausverkauft.
DTSTAMP:20260424T122518Z
DTSTART;TZID=Europe/Berlin:20260128T193000
SEQUENCE:0
TRANSP:OPAQUE
END:VEVENT
END:VCALENDAR