BEGIN:VCALENDAR
VERSION:2.0
PRODID:-//jEvents 2.0 for Joomla//EN
CALSCALE:GREGORIAN
METHOD:PUBLISH
BEGIN:VTIMEZONE
TZID:Europe/Berlin
BEGIN:STANDARD
DTSTART:20241203T193000
RDATE:20250330T030000
TZOFFSETFROM:+0200
TZOFFSETTO:+0100
TZNAME:Europe/Berlin CET
END:STANDARD
BEGIN:STANDARD
DTSTART:20251026T020000
RDATE:20260329T030000
TZOFFSETFROM:+0200
TZOFFSETTO:+0100
TZNAME:Europe/Berlin CET
END:STANDARD
BEGIN:STANDARD
DTSTART:20261025T020000
RDATE:20270328T030000
TZOFFSETFROM:+0200
TZOFFSETTO:+0100
TZNAME:Europe/Berlin CET
END:STANDARD
BEGIN:STANDARD
DTSTART:20271031T020000
RDATE:20280326T030000
TZOFFSETFROM:+0200
TZOFFSETTO:+0100
TZNAME:Europe/Berlin CET
END:STANDARD
BEGIN:DAYLIGHT
DTSTART:20250330T030000
RDATE:20251026T020000
TZOFFSETFROM:+0100
TZOFFSETTO:+0200
TZNAME:Europe/Berlin CEST
END:DAYLIGHT
BEGIN:DAYLIGHT
DTSTART:20260329T030000
RDATE:20261025T020000
TZOFFSETFROM:+0100
TZOFFSETTO:+0200
TZNAME:Europe/Berlin CEST
END:DAYLIGHT
BEGIN:DAYLIGHT
DTSTART:20270328T030000
RDATE:20271031T020000
TZOFFSETFROM:+0100
TZOFFSETTO:+0200
TZNAME:Europe/Berlin CEST
END:DAYLIGHT
END:VTIMEZONE
BEGIN:VEVENT
UID:5a005fcb5984af9b7e2e6086b6728048
CATEGORIES:1. Überland
CREATED:20250806T120751
SUMMARY:Sneedrieven
LOCATION:Schleswig\, Hotel Hohenzollern
DESCRIPTION;ENCODING=QUOTED-PRINTABLE: Dieser Event wurde importiert von: https://www.nbr-ev.de/index.php/aktuell
 es/termine/icalrepeat.detail/2025/12/04/642/-/sneedrieven?tmpl=component
X-EXTRAINFO:Karten können telefonisch reserviert oder vor Ort gekauft werden, 04621 906
 0. Restkarten an der Abendkasse.\nIn der Pause können warme und kalte Speis
 en bestellt werden. 
DTSTAMP:20260421T014754Z
DTSTART;TZID=Europe/Berlin:20251204T193000
SEQUENCE:0
TRANSP:OPAQUE
END:VEVENT
END:VCALENDAR