BEGIN:VCALENDAR
VERSION:2.0
PRODID:-//jEvents 2.0 for Joomla//EN
CALSCALE:GREGORIAN
METHOD:PUBLISH
BEGIN:VTIMEZONE
TZID:Europe/Berlin
BEGIN:STANDARD
DTSTART:20240319T193000
RDATE:20240331T030000
TZOFFSETFROM:+0200
TZOFFSETTO:+0100
TZNAME:Europe/Berlin CET
END:STANDARD
BEGIN:STANDARD
DTSTART:20241027T020000
RDATE:20250330T030000
TZOFFSETFROM:+0200
TZOFFSETTO:+0100
TZNAME:Europe/Berlin CET
END:STANDARD
BEGIN:STANDARD
DTSTART:20251026T020000
RDATE:20260329T030000
TZOFFSETFROM:+0200
TZOFFSETTO:+0100
TZNAME:Europe/Berlin CET
END:STANDARD
BEGIN:STANDARD
DTSTART:20261025T020000
RDATE:20270328T030000
TZOFFSETFROM:+0200
TZOFFSETTO:+0100
TZNAME:Europe/Berlin CET
END:STANDARD
BEGIN:STANDARD
DTSTART:20271031T020000
RDATE:20280326T030000
TZOFFSETFROM:+0200
TZOFFSETTO:+0100
TZNAME:Europe/Berlin CET
END:STANDARD
BEGIN:DAYLIGHT
DTSTART:20240331T030000
RDATE:20241027T020000
TZOFFSETFROM:+0100
TZOFFSETTO:+0200
TZNAME:Europe/Berlin CEST
END:DAYLIGHT
BEGIN:DAYLIGHT
DTSTART:20250330T030000
RDATE:20251026T020000
TZOFFSETFROM:+0100
TZOFFSETTO:+0200
TZNAME:Europe/Berlin CEST
END:DAYLIGHT
BEGIN:DAYLIGHT
DTSTART:20260329T030000
RDATE:20261025T020000
TZOFFSETFROM:+0100
TZOFFSETTO:+0200
TZNAME:Europe/Berlin CEST
END:DAYLIGHT
BEGIN:DAYLIGHT
DTSTART:20270328T030000
RDATE:20271031T020000
TZOFFSETFROM:+0100
TZOFFSETTO:+0200
TZNAME:Europe/Berlin CEST
END:DAYLIGHT
END:VTIMEZONE
BEGIN:VEVENT
UID:33b1734598c9be2fcb47be89e829c4d9
CATEGORIES:3. Überland
CREATED:20241010T080530
SUMMARY:Sluuderkraam in’t Treppenhuus
LOCATION:Kropp\, Schule
DESCRIPTION;ENCODING=QUOTED-PRINTABLE: Dieser Event wurde importiert von: https://www.nbr-ev.de/index.php/aktuell
 es/termine/icalrepeat.detail/2025/03/20/623/-/sluuderkraam-in-t-treppenhuus
 ?tmpl=component
X-EXTRAINFO:Karten gibt es bei der AVHS per Mail unter Diese E-Mail-Adresse ist vor Spa
 mbots geschützt! Zur Anzeige muss JavaScript eingeschaltet sein!
				docume
 nt.getElementById('cloak71f77a5a82e8b142844d682852f92df6').innerHTML = '';

 				var prefix = '&#109;a' + 'i&#108;' + '&#116;o';
				var path = 'hr' + '
 ef' + '=';
				var addy71f77a5a82e8b142844d682852f92df6 = '&#97;vhs' + '&#6
 4;';
				addy71f77a5a82e8b142844d682852f92df6 = addy71f77a5a82e8b142844d682
 852f92df6 + '&#97;mt-ks' + '&#46;' + 'd&#101;';
				var addy_text71f77a5a82
 e8b142844d682852f92df6 = '&#97;vhs' + '&#64;' + '&#97;mt-ks' + '&#46;' + 'd
 &#101;';document.getElementById('cloak71f77a5a82e8b142844d682852f92df6').in
 nerHTML += ''+addy_text71f77a5a82e8b142844d682852f92df6+'';
		 oder telefon
 isch unter 04624/7240 zu kaufen.
DTSTAMP:20260420T185600Z
DTSTART;TZID=Europe/Berlin:20250320T193000
SEQUENCE:0
TRANSP:OPAQUE
END:VEVENT
END:VCALENDAR